Package: Rigraphlib Version: 1.3.0 Command: /home/rapidbuild/bbs-3.22-bioc-rapid/R/bin/R CMD build --keep-empty-dirs --no-resave-data Rigraphlib StartedAt: 2025-10-30 12:59:36 -0400 (Thu, 30 Oct 2025) EndedAt: 2025-10-30 12:59:50 -0400 (Thu, 30 Oct 2025) EllapsedTime: 14.0 seconds RetCode: 0 Status: OK PackageFile: Rigraphlib_1.3.0.tar.gz PackageFileSize: 4.323 MiB