Package: Rgraphviz Version: 2.55.0 Command: /home/rapidbuild/bbs-3.22-bioc-rapid/R/bin/R CMD INSTALL Rgraphviz StartedAt: 2025-10-30 12:09:30 -0400 (Thu, 30 Oct 2025) EndedAt: 2025-10-30 12:10:54 -0400 (Thu, 30 Oct 2025) EllapsedTime: 83.3 seconds RetCode: 0 Status: OK