Package: Rgraphviz Version: 2.55.0 Maintainer: Kasper Daniel Hansen MaintainerEmail: kasperdanielhansen at gmail.com git_url: https://git.bioconductor.org/packages/Rgraphviz git_branch: devel git_last_commit: 508dbe9 git_last_commit_date: 2025-10-29 09:42:22 -0400 (Wed, 29 Oct 2025)