############################################################################## ############################################################################## ### ### Running command: ### ### /home/rapidbuild/bbs-3.22-bioc-rapid/R/bin/R CMD build --keep-empty-dirs --no-resave-data ReportingTools ### ############################################################################## ############################################################################## * checking for file ‘ReportingTools/DESCRIPTION’ ... OK * preparing ‘ReportingTools’: * checking DESCRIPTION meta-information ... OK * installing the package to build vignettes ----------------------------------- ERROR: dependency ‘ggbio’ is not available for package ‘ReportingTools’ Perhaps try a variation of: install.packages('ggbio') * removing ‘/tmp/RtmpdyvYkJ/Rinst210f425cd8a10/ReportingTools’ ----------------------------------- ERROR: package installation failed