Package: RaggedExperiment Version: 1.35.0 Command: /home/rapidbuild/bbs-3.22-bioc-rapid/R/bin/R CMD check --install=check:RaggedExperiment.install-out.txt --library=/home/rapidbuild/bbs-3.22-bioc-rapid/R/site-library --timings RaggedExperiment_1.35.0.tar.gz StartedAt: 2025-10-30 13:54:19 -0400 (Thu, 30 Oct 2025) EndedAt: 2025-10-30 13:56:44 -0400 (Thu, 30 Oct 2025) EllapsedTime: 144.9 seconds RetCode: 0 Status: OK CheckDir: RaggedExperiment.Rcheck Warnings: 0