Package: RaggedExperiment Version: 1.35.0 Maintainer: Marcel Ramos MaintainerEmail: marcel.ramos at sph.cuny.edu git_url: https://git.bioconductor.org/packages/RaggedExperiment git_branch: devel git_last_commit: efd60e0 git_last_commit_date: 2025-10-29 10:37:59 -0400 (Wed, 29 Oct 2025)