Package: RBGL Version: 1.87.0 Command: /home/rapidbuild/bbs-3.22-bioc-rapid/R/bin/R CMD INSTALL RBGL StartedAt: 2025-10-30 12:09:42 -0400 (Thu, 30 Oct 2025) EndedAt: 2025-10-30 12:11:06 -0400 (Thu, 30 Oct 2025) EllapsedTime: 84.5 seconds RetCode: 0 Status: OK