Package: RBGL Version: 1.87.0 Command: /home/rapidbuild/bbs-3.22-bioc-rapid/R/bin/R CMD build --keep-empty-dirs --no-resave-data RBGL StartedAt: 2025-10-30 12:57:10 -0400 (Thu, 30 Oct 2025) EndedAt: 2025-10-30 12:58:46 -0400 (Thu, 30 Oct 2025) EllapsedTime: 96.2 seconds RetCode: 0 Status: OK PackageFile: RBGL_1.87.0.tar.gz PackageFileSize: 3.84 MiB