Package: QFeatures Version: 1.21.0 Command: /home/rapidbuild/bbs-3.22-bioc-rapid/R/bin/R CMD INSTALL QFeatures StartedAt: 2025-10-30 12:20:58 -0400 (Thu, 30 Oct 2025) EndedAt: 2025-10-30 12:21:21 -0400 (Thu, 30 Oct 2025) EllapsedTime: 23.9 seconds RetCode: 0 Status: OK