Package: QFeatures Version: 1.21.0 Command: /home/rapidbuild/bbs-3.22-bioc-rapid/R/bin/R CMD check --install=check:QFeatures.install-out.txt --library=/home/rapidbuild/bbs-3.22-bioc-rapid/R/site-library --timings QFeatures_1.21.0.tar.gz StartedAt: 2025-10-30 13:53:49 -0400 (Thu, 30 Oct 2025) EndedAt: 2025-10-30 13:53:52 -0400 (Thu, 30 Oct 2025) EllapsedTime: 3.0 seconds RetCode: 1 Status: ERROR CheckDir: QFeatures.Rcheck Warnings: NA