Package: QFeatures Version: 1.21.0 Maintainer: Laurent Gatto MaintainerEmail: laurent.gatto at uclouvain.be git_url: https://git.bioconductor.org/packages/QFeatures git_branch: devel git_last_commit: 9863a56 git_last_commit_date: 2025-10-29 11:01:30 -0400 (Wed, 29 Oct 2025)