Package: ProtGenerics Version: 1.43.0 Maintainer: Laurent Gatto MaintainerEmail: laurent.gatto at uclouvain.be git_url: https://git.bioconductor.org/packages/ProtGenerics git_branch: devel git_last_commit: 52f3a6a git_last_commit_date: 2025-10-29 10:24:04 -0400 (Wed, 29 Oct 2025)