Package: PSMatch Version: 1.15.0 Command: /home/rapidbuild/bbs-3.22-bioc-rapid/R/bin/R CMD INSTALL PSMatch StartedAt: 2025-10-30 12:21:22 -0400 (Thu, 30 Oct 2025) EndedAt: 2025-10-30 12:21:45 -0400 (Thu, 30 Oct 2025) EllapsedTime: 23.3 seconds RetCode: 0 Status: OK