Package: PSMatch Version: 1.15.0 Command: /home/rapidbuild/bbs-3.22-bioc-rapid/R/bin/R CMD check --install=check:PSMatch.install-out.txt --library=/home/rapidbuild/bbs-3.22-bioc-rapid/R/site-library --timings PSMatch_1.15.0.tar.gz StartedAt: 2025-10-30 13:52:42 -0400 (Thu, 30 Oct 2025) EndedAt: 2025-10-30 13:57:22 -0400 (Thu, 30 Oct 2025) EllapsedTime: 280.0 seconds RetCode: 0 Status: OK CheckDir: PSMatch.Rcheck Warnings: 0