Package: PSMatch Version: 1.15.0 Command: /home/rapidbuild/bbs-3.22-bioc-rapid/R/bin/R CMD build --keep-empty-dirs --no-resave-data PSMatch StartedAt: 2025-10-30 12:55:01 -0400 (Thu, 30 Oct 2025) EndedAt: 2025-10-30 12:56:31 -0400 (Thu, 30 Oct 2025) EllapsedTime: 89.6 seconds RetCode: 0 Status: OK PackageFile: PSMatch_1.15.0.tar.gz PackageFileSize: 1.737 MiB