Package: PSMatch Version: 1.15.0 Maintainer: Laurent Gatto MaintainerEmail: laurent.gatto at uclouvain.be git_url: https://git.bioconductor.org/packages/PSMatch git_branch: devel git_last_commit: 269b755 git_last_commit_date: 2025-10-29 11:15:29 -0400 (Wed, 29 Oct 2025)