Package: MultiAssayExperiment Version: 1.37.0 Command: /home/rapidbuild/bbs-3.22-bioc-rapid/R/bin/R CMD INSTALL MultiAssayExperiment StartedAt: 2025-10-30 12:20:33 -0400 (Thu, 30 Oct 2025) EndedAt: 2025-10-30 12:20:57 -0400 (Thu, 30 Oct 2025) EllapsedTime: 24.5 seconds RetCode: 0 Status: OK