Package: MsFeatures Version: 1.19.0 Command: /home/rapidbuild/bbs-3.22-bioc-rapid/R/bin/R CMD INSTALL MsFeatures StartedAt: 2025-10-30 12:16:05 -0400 (Thu, 30 Oct 2025) EndedAt: 2025-10-30 12:16:22 -0400 (Thu, 30 Oct 2025) EllapsedTime: 17.5 seconds RetCode: 0 Status: OK