Package: MsFeatures Version: 1.19.0 Maintainer: Johannes Rainer MaintainerEmail: Johannes.Rainer at eurac.edu git_url: https://git.bioconductor.org/packages/MsFeatures git_branch: devel git_last_commit: e8548f3 git_last_commit_date: 2025-10-29 11:06:00 -0400 (Wed, 29 Oct 2025)