Package: MsExperiment Version: 1.13.0 Command: /home/rapidbuild/bbs-3.22-bioc-rapid/R/bin/R CMD check --install=check:MsExperiment.install-out.txt --library=/home/rapidbuild/bbs-3.22-bioc-rapid/R/site-library --timings MsExperiment_1.13.0.tar.gz StartedAt: 2025-10-30 13:48:15 -0400 (Thu, 30 Oct 2025) EndedAt: 2025-10-30 13:51:37 -0400 (Thu, 30 Oct 2025) EllapsedTime: 201.5 seconds RetCode: 0 Status: OK CheckDir: MsExperiment.Rcheck Warnings: 0