Package: MsDataHub Version: 1.11.0 Command: /home/rapidbuild/bbs-3.22-bioc-rapid/R/bin/R CMD INSTALL MsDataHub StartedAt: 2025-10-30 12:20:12 -0400 (Thu, 30 Oct 2025) EndedAt: 2025-10-30 12:20:13 -0400 (Thu, 30 Oct 2025) EllapsedTime: 1.0 seconds RetCode: 1 Status: ERROR