Package: MsDataHub Version: 1.11.0 Command: /home/rapidbuild/bbs-3.22-bioc-rapid/R/bin/R CMD build --keep-empty-dirs --no-resave-data MsDataHub StartedAt: 2025-10-30 12:50:14 -0400 (Thu, 30 Oct 2025) EndedAt: 2025-10-30 12:50:15 -0400 (Thu, 30 Oct 2025) EllapsedTime: 1.0 seconds RetCode: 1 Status: ERROR PackageFile: None PackageFileSize: NA