Package: MsCoreUtils Version: 1.23.0 Command: /home/rapidbuild/bbs-3.22-bioc-rapid/R/bin/R CMD INSTALL MsCoreUtils StartedAt: 2025-10-30 12:11:13 -0400 (Thu, 30 Oct 2025) EndedAt: 2025-10-30 12:11:19 -0400 (Thu, 30 Oct 2025) EllapsedTime: 5.3 seconds RetCode: 0 Status: OK