Package: MsCoreUtils Version: 1.23.0 Command: /home/rapidbuild/bbs-3.22-bioc-rapid/R/bin/R CMD check --install=check:MsCoreUtils.install-out.txt --library=/home/rapidbuild/bbs-3.22-bioc-rapid/R/site-library --timings MsCoreUtils_1.23.0.tar.gz StartedAt: 2025-10-30 13:47:45 -0400 (Thu, 30 Oct 2025) EndedAt: 2025-10-30 13:48:37 -0400 (Thu, 30 Oct 2025) EllapsedTime: 52.3 seconds RetCode: 1 Status: ERROR CheckDir: MsCoreUtils.Rcheck Warnings: NA