Package: MsCoreUtils Version: 1.23.0 Maintainer: RforMassSpectrometry Package Maintainer MaintainerEmail: maintainer at rformassspectrometry.org git_url: https://git.bioconductor.org/packages/MsCoreUtils git_branch: devel git_last_commit: 4645c9d git_last_commit_date: 2025-10-29 10:58:28 -0400 (Wed, 29 Oct 2025)