Package: MatrixGenerics Version: 1.23.0 Maintainer: Peter Hickey MaintainerEmail: peter.hickey at gmail.com git_url: https://git.bioconductor.org/packages/MatrixGenerics git_branch: devel git_last_commit: 4bb40d2 git_last_commit_date: 2025-10-29 10:58:10 -0400 (Wed, 29 Oct 2025)