Package: IHW Version: 1.39.0 Maintainer: Nikos Ignatiadis MaintainerEmail: nikos.ignatiadis01 at gmail.com git_url: https://git.bioconductor.org/packages/IHW git_branch: devel git_last_commit: 129deec git_last_commit_date: 2025-10-29 10:29:39 -0400 (Wed, 29 Oct 2025)