Package: HubPub Version: 1.19.0 Maintainer: Kayla Interdonato MaintainerEmail: kayla.morrell16 at gmail.com git_url: https://git.bioconductor.org/packages/HubPub git_branch: devel git_last_commit: 78b6e76 git_last_commit_date: 2025-10-29 11:09:35 -0400 (Wed, 29 Oct 2025)