Package: GenomicRanges Version: 1.61.8 Command: /home/rapidbuild/bbs-3.22-bioc-rapid/R/bin/R CMD check --install=check:GenomicRanges.install-out.txt --library=/home/rapidbuild/bbs-3.22-bioc-rapid/R/site-library --timings GenomicRanges_1.61.8.tar.gz StartedAt: 2025-10-25 20:22:42 -0400 (Sat, 25 Oct 2025) EndedAt: 2025-10-25 20:27:43 -0400 (Sat, 25 Oct 2025) EllapsedTime: 301.3 seconds RetCode: 0 Status: OK CheckDir: GenomicRanges.Rcheck Warnings: 0