Package: GenomicRanges Version: 1.63.0 Command: /home/rapidbuild/bbs-3.22-bioc-rapid/R/bin/R CMD build --keep-empty-dirs --no-resave-data GenomicRanges StartedAt: 2025-10-30 12:42:43 -0400 (Thu, 30 Oct 2025) EndedAt: 2025-10-30 12:43:04 -0400 (Thu, 30 Oct 2025) EllapsedTime: 20.9 seconds RetCode: 1 Status: ERROR PackageFile: None PackageFileSize: NA