############################################################################## ############################################################################## ### ### Running command: ### ### /home/rapidbuild/bbs-3.22-bioc-rapid/R/bin/R CMD build --keep-empty-dirs --no-resave-data GenomicFeatures ### ############################################################################## ############################################################################## * checking for file ‘GenomicFeatures/DESCRIPTION’ ... OK * preparing ‘GenomicFeatures’: * checking DESCRIPTION meta-information ... OK * installing the package to build vignettes ----------------------------------- ERROR: dependency ‘rtracklayer’ is not available for package ‘GenomicFeatures’ Perhaps try a variation of: install.packages('rtracklayer') * removing ‘/tmp/Rtmpywgqm8/Rinst1f9a0e652f91fd/GenomicFeatures’ ----------------------------------- ERROR: package installation failed