Package: GenomicFeatures Version: 1.63.1 Maintainer: H. Pagès MaintainerEmail: hpages.on.github at gmail.com git_url: https://git.bioconductor.org/packages/GenomicFeatures git_branch: devel git_last_commit: d92f2d0 git_last_commit_date: 2025-10-30 02:00:29 -0400 (Thu, 30 Oct 2025)