Package: GenomicAlignments Version: 1.47.0 Maintainer: Hervé Pagès MaintainerEmail: hpages.on.github at gmail.com git_url: https://git.bioconductor.org/packages/GenomicAlignments git_branch: devel git_last_commit: 085e9df git_last_commit_date: 2025-10-29 14:50:25 -0400 (Wed, 29 Oct 2025)