Package: GOstats Version: 2.77.0 Command: /home/rapidbuild/bbs-3.22-bioc-rapid/R/bin/R CMD check --install=check:GOstats.install-out.txt --library=/home/rapidbuild/bbs-3.22-bioc-rapid/R/site-library --timings GOstats_2.77.0.tar.gz StartedAt: 2025-10-30 13:40:46 -0400 (Thu, 30 Oct 2025) EndedAt: 2025-10-30 13:52:36 -0400 (Thu, 30 Oct 2025) EllapsedTime: 709.9 seconds RetCode: 0 Status: OK CheckDir: GOstats.Rcheck Warnings: 0