Package: GEOquery Version: 2.79.0 Command: /home/rapidbuild/bbs-3.22-bioc-rapid/R/bin/R CMD build --keep-empty-dirs --no-resave-data GEOquery StartedAt: 2025-10-30 12:42:47 -0400 (Thu, 30 Oct 2025) EndedAt: 2025-10-30 12:42:49 -0400 (Thu, 30 Oct 2025) EllapsedTime: 2.0 seconds RetCode: 0 Status: OK PackageFile: GEOquery_2.79.0.tar.gz PackageFileSize: 12.83 MiB