Package: EnhancedVolcano Version: 1.29.0 Command: /home/rapidbuild/bbs-3.22-bioc-rapid/R/bin/R CMD INSTALL EnhancedVolcano StartedAt: 2025-10-30 12:16:50 -0400 (Thu, 30 Oct 2025) EndedAt: 2025-10-30 12:16:54 -0400 (Thu, 30 Oct 2025) EllapsedTime: 4.2 seconds RetCode: 0 Status: OK