############################################################################## ############################################################################## ### ### Running command: ### ### /home/rapidbuild/bbs-3.22-bioc-rapid/R/bin/R CMD INSTALL EDASeq ### ############################################################################## ############################################################################## * installing to library ‘/media/volume/teran2_disk/rapidbuild/bbs-3.22-bioc-rapid/R/site-library’ ERROR: dependencies ‘ShortRead’, ‘GenomicFeatures’ are not available for package ‘EDASeq’ Perhaps try a variation of: install.packages(c('ShortRead', 'GenomicFeatures')) * removing ‘/media/volume/teran2_disk/rapidbuild/bbs-3.22-bioc-rapid/R/site-library/EDASeq’