Package: EDASeq Version: 2.43.0 Command: /home/rapidbuild/bbs-3.22-bioc-rapid/R/bin/R CMD check --install=check:EDASeq.install-out.txt --library=/home/rapidbuild/bbs-3.22-bioc-rapid/R/site-library --timings EDASeq_2.43.0.tar.gz StartedAt: 2025-10-25 20:06:46 -0400 (Sat, 25 Oct 2025) EndedAt: 2025-10-25 20:10:43 -0400 (Sat, 25 Oct 2025) EllapsedTime: 236.9 seconds RetCode: 0 Status: OK CheckDir: EDASeq.Rcheck Warnings: 0