Package: EDASeq Version: 2.45.0 Command: /home/rapidbuild/bbs-3.22-bioc-rapid/R/bin/R CMD build --keep-empty-dirs --no-resave-data EDASeq StartedAt: 2025-10-30 12:34:59 -0400 (Thu, 30 Oct 2025) EndedAt: 2025-10-30 12:35:00 -0400 (Thu, 30 Oct 2025) EllapsedTime: 1.0 seconds RetCode: 1 Status: ERROR PackageFile: None PackageFileSize: NA