Package: EDASeq Version: 2.45.0 Maintainer: Davide Risso MaintainerEmail: risso.davide at gmail.com git_url: https://git.bioconductor.org/packages/EDASeq git_branch: devel git_last_commit: 1f147bc git_last_commit_date: 2025-10-29 10:08:53 -0400 (Wed, 29 Oct 2025)