Package: EBImage Version: 4.53.0 Command: /home/rapidbuild/bbs-3.22-bioc-rapid/R/bin/R CMD INSTALL EBImage StartedAt: 2025-10-30 12:13:02 -0400 (Thu, 30 Oct 2025) EndedAt: 2025-10-30 12:13:12 -0400 (Thu, 30 Oct 2025) EllapsedTime: 10.0 seconds RetCode: 0 Status: OK