Package: EBImage Version: 4.53.0 Maintainer: Andrzej OleÅ› MaintainerEmail: andrzej.oles at gmail.com git_url: https://git.bioconductor.org/packages/EBImage git_branch: devel git_last_commit: ee2451f git_last_commit_date: 2025-10-29 09:57:46 -0400 (Wed, 29 Oct 2025)