Package: DropletUtils Version: 1.31.0 Command: /home/rapidbuild/bbs-3.22-bioc-rapid/R/bin/R CMD INSTALL DropletUtils StartedAt: 2025-10-30 12:18:28 -0400 (Thu, 30 Oct 2025) EndedAt: 2025-10-30 12:19:39 -0400 (Thu, 30 Oct 2025) EllapsedTime: 71.0 seconds RetCode: 0 Status: OK