Package: DropletUtils Version: 1.31.0 Command: /home/rapidbuild/bbs-3.22-bioc-rapid/R/bin/R CMD build --keep-empty-dirs --no-resave-data DropletUtils StartedAt: 2025-10-30 12:33:58 -0400 (Thu, 30 Oct 2025) EndedAt: 2025-10-30 12:35:20 -0400 (Thu, 30 Oct 2025) EllapsedTime: 82.4 seconds RetCode: 0 Status: OK PackageFile: DropletUtils_1.31.0.tar.gz PackageFileSize: 592.4 KiB