Package: DirichletMultinomial Version: 1.53.0 Maintainer: Martin Morgan MaintainerEmail: mtmorgan.xyz at gmail.com git_url: https://git.bioconductor.org/packages/DirichletMultinomial git_branch: devel git_last_commit: 673d30b git_last_commit_date: 2025-10-29 10:11:03 -0400 (Wed, 29 Oct 2025)