Package: DelayedArray Version: 0.37.0 Command: _R_CHECK_CODETOOLS_PROFILE_="suppressFundefMismatch=TRUE" /home/rapidbuild/bbs-3.22-bioc-rapid/R/bin/R CMD check --install=check:DelayedArray.install-out.txt --library=/home/rapidbuild/bbs-3.22-bioc-rapid/R/site-library --timings DelayedArray_0.37.0.tar.gz StartedAt: 2025-10-30 13:23:44 -0400 (Thu, 30 Oct 2025) EndedAt: 2025-10-30 13:40:43 -0400 (Thu, 30 Oct 2025) EllapsedTime: 1019.0 seconds RetCode: 0 Status: WARNINGS CheckDir: DelayedArray.Rcheck Warnings: 1