Package: DESeq2 Version: 1.51.0 Maintainer: Michael Love MaintainerEmail: michaelisaiahlove at gmail.com git_url: https://git.bioconductor.org/packages/DESeq2 git_branch: devel git_last_commit: 3323082 git_last_commit_date: 2025-10-29 10:13:48 -0400 (Wed, 29 Oct 2025)