Package: CytoML Version: 2.23.0 Command: /home/rapidbuild/bbs-3.22-bioc-rapid/R/bin/R CMD check --install=check:CytoML.install-out.txt --library=/home/rapidbuild/bbs-3.22-bioc-rapid/R/site-library --timings CytoML_2.23.0.tar.gz StartedAt: 2025-10-30 13:23:22 -0400 (Thu, 30 Oct 2025) EndedAt: 2025-10-30 13:25:35 -0400 (Thu, 30 Oct 2025) EllapsedTime: 133.3 seconds RetCode: 0 Status: WARNINGS CheckDir: CytoML.Rcheck Warnings: 5