Package: CompoundDb Version: 1.15.0 Command: /home/rapidbuild/bbs-3.22-bioc-rapid/R/bin/R CMD INSTALL CompoundDb StartedAt: 2025-10-30 12:19:39 -0400 (Thu, 30 Oct 2025) EndedAt: 2025-10-30 12:19:55 -0400 (Thu, 30 Oct 2025) EllapsedTime: 15.8 seconds RetCode: 0 Status: OK