Package: CompoundDb Version: 1.15.0 Command: /home/rapidbuild/bbs-3.22-bioc-rapid/R/bin/R CMD build --keep-empty-dirs --no-resave-data CompoundDb StartedAt: 2025-10-30 12:30:12 -0400 (Thu, 30 Oct 2025) EndedAt: 2025-10-30 12:30:40 -0400 (Thu, 30 Oct 2025) EllapsedTime: 27.9 seconds RetCode: 0 Status: OK PackageFile: CompoundDb_1.15.0.tar.gz PackageFileSize: 1.303 MiB